BEGIN:VCALENDAR
VERSION:2.0
PRODID:-//Erie Community Foundation - ECPv6.15.20//NONSGML v1.0//EN
CALSCALE:GREGORIAN
METHOD:PUBLISH
X-WR-CALNAME:Erie Community Foundation
X-ORIGINAL-URL:https://eriecommunityfoundation.org
X-WR-CALDESC:Events for Erie Community Foundation
REFRESH-INTERVAL;VALUE=DURATION:PT1H
X-Robots-Tag:noindex
X-PUBLISHED-TTL:PT1H
BEGIN:VTIMEZONE
TZID:America/New_York
BEGIN:DAYLIGHT
TZOFFSETFROM:-0500
TZOFFSETTO:-0400
TZNAME:EDT
DTSTART:20250309T070000
END:DAYLIGHT
BEGIN:STANDARD
TZOFFSETFROM:-0400
TZOFFSETTO:-0500
TZNAME:EST
DTSTART:20251102T060000
END:STANDARD
BEGIN:DAYLIGHT
TZOFFSETFROM:-0500
TZOFFSETTO:-0400
TZNAME:EDT
DTSTART:20260308T070000
END:DAYLIGHT
BEGIN:STANDARD
TZOFFSETFROM:-0400
TZOFFSETTO:-0500
TZNAME:EST
DTSTART:20261101T060000
END:STANDARD
BEGIN:DAYLIGHT
TZOFFSETFROM:-0500
TZOFFSETTO:-0400
TZNAME:EDT
DTSTART:20270314T070000
END:DAYLIGHT
BEGIN:STANDARD
TZOFFSETFROM:-0400
TZOFFSETTO:-0500
TZNAME:EST
DTSTART:20271107T060000
END:STANDARD
END:VTIMEZONE
BEGIN:VEVENT
DTSTART;TZID=America/New_York:20260422T170000
DTEND;TZID=America/New_York:20260422T190000
DTSTAMP:20260422T072616
CREATED:20260325T103808Z
LAST-MODIFIED:20260415T140949Z
UID:10000076-1776877200-1776884400@eriecommunityfoundation.org
SUMMARY:Erie Women's Fund Prospective Member Event
DESCRIPTION:The Erie Women’s Fund invites you to join us—and bring a prospective member—for an evening of connection and conversation on Wednesday\, April 22. \nWhile all members are welcome to attend\, this gathering is designed with your guest in mind. We encourage you to invite a woman in your life who you believe would be inspired by the Erie Women’s Fund and interested in learning more about our mission and impact. \nProspective members will have the opportunity to learn how collective giving is supporting women and families in our community\, hear how members are engaged\, and explore what it means to be part of this network of women creating meaningful change. \nRegister Now
URL:https://eriecommunityfoundation.org/event/erie-womens-fund-prospective-member-event/
LOCATION:Luminary Cocktails & Bottle Shop\, 1213 State 1213 State St\, Erie\, p\, 16501\, United States
CATEGORIES:Erie Women's Fund
END:VEVENT
END:VCALENDAR