BEGIN:VCALENDAR
VERSION:2.0
PRODID:-//Erie Community Foundation - ECPv6.15.20//NONSGML v1.0//EN
CALSCALE:GREGORIAN
METHOD:PUBLISH
X-ORIGINAL-URL:https://eriecommunityfoundation.org
X-WR-CALDESC:Events for Erie Community Foundation
REFRESH-INTERVAL;VALUE=DURATION:PT1H
X-Robots-Tag:noindex
X-PUBLISHED-TTL:PT1H
BEGIN:VTIMEZONE
TZID:America/New_York
BEGIN:DAYLIGHT
TZOFFSETFROM:-0500
TZOFFSETTO:-0400
TZNAME:EDT
DTSTART:20240310T070000
END:DAYLIGHT
BEGIN:STANDARD
TZOFFSETFROM:-0400
TZOFFSETTO:-0500
TZNAME:EST
DTSTART:20241103T060000
END:STANDARD
BEGIN:DAYLIGHT
TZOFFSETFROM:-0500
TZOFFSETTO:-0400
TZNAME:EDT
DTSTART:20250309T070000
END:DAYLIGHT
BEGIN:STANDARD
TZOFFSETFROM:-0400
TZOFFSETTO:-0500
TZNAME:EST
DTSTART:20251102T060000
END:STANDARD
BEGIN:DAYLIGHT
TZOFFSETFROM:-0500
TZOFFSETTO:-0400
TZNAME:EDT
DTSTART:20260308T070000
END:DAYLIGHT
BEGIN:STANDARD
TZOFFSETFROM:-0400
TZOFFSETTO:-0500
TZNAME:EST
DTSTART:20261101T060000
END:STANDARD
END:VTIMEZONE
BEGIN:VEVENT
DTSTART;VALUE=DATE:20250812
DTEND;VALUE=DATE:20250813
DTSTAMP:20260421T053403
CREATED:20250506T050401Z
LAST-MODIFIED:20250710T193852Z
UID:10000043-1754956800-1755043199@eriecommunityfoundation.org
SUMMARY:Brews and Dues
DESCRIPTION:EEF members\, join us at Brews & Dues at Oliver’s Beer Garden on Erie Gives! Join us for a laid-back evening with good company and good brews\, and don’t forget to renew your membership dues while you’re at it. \nYou can support the Emerging Erie Fund online at ErieGives.org from midnight to midnight on Tuesday\, August 12. Let’s raise a glass to giving back!
URL:https://eriecommunityfoundation.org/event/brews-and-dues/
LOCATION:Oliver’s Beer Garden
CATEGORIES:Emerging Erie Fund
END:VEVENT
END:VCALENDAR