BEGIN:VCALENDAR
VERSION:2.0
PRODID:-//Erie Community Foundation - ECPv6.15.20//NONSGML v1.0//EN
CALSCALE:GREGORIAN
METHOD:PUBLISH
X-WR-CALNAME:Erie Community Foundation
X-ORIGINAL-URL:https://eriecommunityfoundation.org
X-WR-CALDESC:Events for Erie Community Foundation
REFRESH-INTERVAL;VALUE=DURATION:PT1H
X-Robots-Tag:noindex
X-PUBLISHED-TTL:PT1H
BEGIN:VTIMEZONE
TZID:America/New_York
BEGIN:DAYLIGHT
TZOFFSETFROM:-0500
TZOFFSETTO:-0400
TZNAME:EDT
DTSTART:20240310T070000
END:DAYLIGHT
BEGIN:STANDARD
TZOFFSETFROM:-0400
TZOFFSETTO:-0500
TZNAME:EST
DTSTART:20241103T060000
END:STANDARD
BEGIN:DAYLIGHT
TZOFFSETFROM:-0500
TZOFFSETTO:-0400
TZNAME:EDT
DTSTART:20250309T070000
END:DAYLIGHT
BEGIN:STANDARD
TZOFFSETFROM:-0400
TZOFFSETTO:-0500
TZNAME:EST
DTSTART:20251102T060000
END:STANDARD
BEGIN:DAYLIGHT
TZOFFSETFROM:-0500
TZOFFSETTO:-0400
TZNAME:EDT
DTSTART:20260308T070000
END:DAYLIGHT
BEGIN:STANDARD
TZOFFSETFROM:-0400
TZOFFSETTO:-0500
TZNAME:EST
DTSTART:20261101T060000
END:STANDARD
END:VTIMEZONE
BEGIN:VEVENT
DTSTART;VALUE=DATE:20250825
DTEND;VALUE=DATE:20250826
DTSTAMP:20260420T093356
CREATED:20250812T031622Z
LAST-MODIFIED:20250819T192451Z
UID:10000053-1756080000-1756166399@eriecommunityfoundation.org
SUMMARY:Women Driving Philanthropy
DESCRIPTION:Tee off for a good cause! Join us Monday\, August 25 at Lawrence Park Golf Club for Women Driving Philanthropy—a fun and meaningful way to support causes that benefit women and children in our region. Foursomes are now open to the public for this signature Erie Women’s Fund event! It’s also a great opportunity to connect with other like-minded women who are passionate about making a difference. Shotgun start at 12 PM.Contact Olivia Burgess at oburgess@eriecommunityfoundation.org to register or learn more!
URL:https://eriecommunityfoundation.org/event/women-driving-philanthropy/
LOCATION:Lawrence Park Golf Club
CATEGORIES:Erie Women's Fund
ATTACH;FMTTYPE=image/jpeg:https://eriecommunityfoundation.org/wp-content/uploads/2025/08/WDP-scaled.jpeg
END:VEVENT
END:VCALENDAR