BEGIN:VCALENDAR
VERSION:2.0
PRODID:-//Erie Community Foundation - ECPv6.15.20//NONSGML v1.0//EN
CALSCALE:GREGORIAN
METHOD:PUBLISH
X-WR-CALNAME:Erie Community Foundation
X-ORIGINAL-URL:https://eriecommunityfoundation.org
X-WR-CALDESC:Events for Erie Community Foundation
REFRESH-INTERVAL;VALUE=DURATION:PT1H
X-Robots-Tag:noindex
X-PUBLISHED-TTL:PT1H
BEGIN:VTIMEZONE
TZID:America/New_York
BEGIN:DAYLIGHT
TZOFFSETFROM:-0500
TZOFFSETTO:-0400
TZNAME:EDT
DTSTART:20240310T070000
END:DAYLIGHT
BEGIN:STANDARD
TZOFFSETFROM:-0400
TZOFFSETTO:-0500
TZNAME:EST
DTSTART:20241103T060000
END:STANDARD
BEGIN:DAYLIGHT
TZOFFSETFROM:-0500
TZOFFSETTO:-0400
TZNAME:EDT
DTSTART:20250309T070000
END:DAYLIGHT
BEGIN:STANDARD
TZOFFSETFROM:-0400
TZOFFSETTO:-0500
TZNAME:EST
DTSTART:20251102T060000
END:STANDARD
BEGIN:DAYLIGHT
TZOFFSETFROM:-0500
TZOFFSETTO:-0400
TZNAME:EDT
DTSTART:20260308T070000
END:DAYLIGHT
BEGIN:STANDARD
TZOFFSETFROM:-0400
TZOFFSETTO:-0500
TZNAME:EST
DTSTART:20261101T060000
END:STANDARD
END:VTIMEZONE
BEGIN:VEVENT
DTSTART;VALUE=DATE:20250908
DTEND;VALUE=DATE:20251101
DTSTAMP:20260420T095048
CREATED:20250812T033330Z
LAST-MODIFIED:20250912T154222Z
UID:10000054-1757289600-1761955199@eriecommunityfoundation.org
SUMMARY:Grant Cycle for LGBT Fund
DESCRIPTION:DOWNLOAD PDF \nThe LGBT Fund values inclusivity in both the projects we support and the people who lead them. We welcome applications from those whose ideas align with our mission to uplift the LGBTQ+ community in Erie County. \nApplicants must be a 501(c)(3) or work with one as a fiscal sponsor. This year\, organizations can apply for up to $10\,000 in funding. \nProposals will be evaluated based on community need\, project model and timeline\, organizational capacity\, and potential impact on the local LGBTQ+ community. \nApplications are NOW OPEN: Link to view application and apply: https://goapply2.akoyago.com/eriecommunityfoundation  \n 
URL:https://eriecommunityfoundation.org/event/grant-cycle-for-lgbt-fund/
CATEGORIES:Erie LGBT Fund
ATTACH;FMTTYPE=image/jpeg:https://eriecommunityfoundation.org/wp-content/uploads/2025/08/LGBT-Grant-Cycle-scaled.jpeg
LOCATION:https://eriecommunityfoundation.org/event/grant-cycle-for-lgbt-fund/
END:VEVENT
BEGIN:VEVENT
DTSTART;VALUE=DATE:20251008
DTEND;VALUE=DATE:20251009
DTSTAMP:20260420T095048
CREATED:20250911T194133Z
LAST-MODIFIED:20250915T180029Z
UID:10000059-1759881600-1759967999@eriecommunityfoundation.org
SUMMARY:LGBT Grant Cycle Closes
DESCRIPTION:The LGBT Fund values inclusivity in both the projects we support and their creators. We welcome applications from those whose ideas align with our goals. Applicants must be a 501(c)(3) or partner with one as a fiscal sponsor. This year\, applicants can apply for up to $10\,000 in funding. \nApplications will be reviewed based on the assessment of community need\, project model\, project timeline\, and organizational capacity and the potential to have a positive impact on the local LGBTQ+ community. \nApply Today: https://goapply2.akoyago.com/eriecommunityfoundation \n 
URL:https://eriecommunityfoundation.org/event/lgbt-grant-cycle-opens/
CATEGORIES:Erie LGBT Fund
ATTACH;FMTTYPE=image/png:https://eriecommunityfoundation.org/wp-content/uploads/2025/09/featured-LGBT-Fund-2025-Grant-Cycle-Digital.png
LOCATION:
END:VEVENT
END:VCALENDAR