BEGIN:VCALENDAR
VERSION:2.0
PRODID:-//Erie Community Foundation - ECPv6.15.20//NONSGML v1.0//EN
CALSCALE:GREGORIAN
METHOD:PUBLISH
X-WR-CALNAME:Erie Community Foundation
X-ORIGINAL-URL:https://eriecommunityfoundation.org
X-WR-CALDESC:Events for Erie Community Foundation
REFRESH-INTERVAL;VALUE=DURATION:PT1H
X-Robots-Tag:noindex
X-PUBLISHED-TTL:PT1H
BEGIN:VTIMEZONE
TZID:America/New_York
BEGIN:DAYLIGHT
TZOFFSETFROM:-0500
TZOFFSETTO:-0400
TZNAME:EDT
DTSTART:20250309T070000
END:DAYLIGHT
BEGIN:STANDARD
TZOFFSETFROM:-0400
TZOFFSETTO:-0500
TZNAME:EST
DTSTART:20251102T060000
END:STANDARD
BEGIN:DAYLIGHT
TZOFFSETFROM:-0500
TZOFFSETTO:-0400
TZNAME:EDT
DTSTART:20260308T070000
END:DAYLIGHT
BEGIN:STANDARD
TZOFFSETFROM:-0400
TZOFFSETTO:-0500
TZNAME:EST
DTSTART:20261101T060000
END:STANDARD
BEGIN:DAYLIGHT
TZOFFSETFROM:-0500
TZOFFSETTO:-0400
TZNAME:EDT
DTSTART:20270314T070000
END:DAYLIGHT
BEGIN:STANDARD
TZOFFSETFROM:-0400
TZOFFSETTO:-0500
TZNAME:EST
DTSTART:20271107T060000
END:STANDARD
END:VTIMEZONE
BEGIN:VEVENT
DTSTART;TZID=America/New_York:20260514T120000
DTEND;TZID=America/New_York:20260514T130000
DTSTAMP:20260422T052755
CREATED:20260325T103356Z
LAST-MODIFIED:20260421T173523Z
UID:10000074-1778760000-1778763600@eriecommunityfoundation.org
SUMMARY:ECF 101 For Professional Advisors
DESCRIPTION:Join us for ECF 101\, a free and informal introduction to The Erie Community Foundation and the giving options we offer. It’s a great opportunity to learn more – and to bring along a colleague or client who’s been curious about charitable planning. \nYou’ll gain a clear understanding of how we support individuals and organizations in creating meaningful\, lasting impact across our community. This gathering brings together professionals from across disciplines to exchange insights\, strengthen relationships\, and explore how thoughtful planning and collaboration can amplify impact for clients. \nCome with questions\, connect with our team\, and explore how you can get involved. \nClick HERE for virtual meeting link.
URL:https://eriecommunityfoundation.org/event/ecf-101-prof-advisors/
LOCATION:https://events.teams.microsoft.com/event/c69069c9-4259-4493-b21e-34bfc7d6bad1@7cbe832a-b4ad-4d38-9eb9-0ff9d3ad9ff3
CATEGORIES:Erie Community Foundation
END:VEVENT
BEGIN:VEVENT
DTSTART;TZID=America/New_York:20260519T160000
DTEND;TZID=America/New_York:20260519T180000
DTSTAMP:20260422T052755
CREATED:20260416T190832Z
LAST-MODIFIED:20260416T191124Z
UID:10000079-1779206400-1779213600@eriecommunityfoundation.org
SUMMARY:Emerging Erie Fund Engagement Session
DESCRIPTION:Emerging Erie Fund Engagement Session \nJoin the Engagement Committee for a casual\, open-house–style gathering at the UPMC Health Plan Neighborhood Center. Throughout the evening\, you’ll have the opportunity to explore the Center’s impact and learn more about the progress of the Second Harvest Marketplace—supported in part by our 2025 grant. \nRegistration \n 
URL:https://eriecommunityfoundation.org/event/emerging-erie-fund-engagement-session/
LOCATION:The UPMC Health Plan Neighborhood Center\, 803 East Ave.\, Erie\, PA\, 16503\, United States
CATEGORIES:Emerging Erie Fund
END:VEVENT
BEGIN:VEVENT
DTSTART;VALUE=DATE:20260609
DTEND;VALUE=DATE:20260610
DTSTAMP:20260422T052755
CREATED:20260325T103932Z
LAST-MODIFIED:20260325T103932Z
UID:10000077-1780963200-1781049599@eriecommunityfoundation.org
SUMMARY:ECF Annual Event
DESCRIPTION:More information coming soon…
URL:https://eriecommunityfoundation.org/event/ecf-annual-event/
LOCATION:Warner Theatre\, 811 State St\, Erie\, PA\, 16501\, United States
CATEGORIES:Erie Community Foundation
END:VEVENT
BEGIN:VEVENT
DTSTART;VALUE=DATE:20260824
DTEND;VALUE=DATE:20260825
DTSTAMP:20260422T052755
CREATED:20260325T103611Z
LAST-MODIFIED:20260325T103611Z
UID:10000075-1787529600-1787615999@eriecommunityfoundation.org
SUMMARY:Women Driving Philanthropy
DESCRIPTION:More information and registration information coming soon…
URL:https://eriecommunityfoundation.org/event/women-driving-philanthropy-2/
LOCATION:Lawrence Park Golf Club
CATEGORIES:Erie Women's Fund
END:VEVENT
END:VCALENDAR